BEGIN:VCALENDAR
VERSION:2.0
PRODID:-//Tukios.com/
BEGIN:VEVENT
UID:0ff69ef4-cdbe-4afa-88ad-228035d93228@www.speakschapel.com
DTSTAMP:20260424T014100Z
DTSTART:20260508T180000Z
DTEND:20260508T190000Z
SUMMARY:Visitation
DESCRIPTION:
URL:https://www.speakschapel.com/obituaries/brett-lewis
LOCATION: 18020 East 39th St S  Independence MO 64055
GEO:39.0487451;-94.3667505
END:VEVENT
END:VCALENDAR