BEGIN:VCALENDAR
VERSION:2.0
PRODID:-//Tukios.com/
BEGIN:VEVENT
UID:03eb5820-0fdf-4098-b26d-b6feb5ca3e41@www.speakschapel.com
DTSTAMP:20260424T013722Z
DTSTART:20260508T190000Z
DTEND:20260508T200000Z
SUMMARY:Memorial Service
DESCRIPTION:
URL:https://www.speakschapel.com/obituaries/brett-lewis
LOCATION: 18020 East 39th St S  Independence MO 64055
GEO:39.0487451;-94.3667505
END:VEVENT
END:VCALENDAR