BEGIN:VCALENDAR
VERSION:2.0
PRODID:-//Tukios.com/
BEGIN:VEVENT
UID:cfe6b7d9-0df2-4ce9-a310-7ff6cafe1d8b@www.speakschapel.com
DTSTAMP:20260425T230344Z
DTSTART:20260428T143000Z
DTEND:20260428T160000Z
SUMMARY:Visitation
DESCRIPTION:
URL:https://www.speakschapel.com/obituaries/ivan-smith
LOCATION: 613 S Main St  Independence MO 64050
GEO:39.0863917;-94.4147647
END:VEVENT
END:VCALENDAR