BEGIN:VCALENDAR
VERSION:2.0
PRODID:-//Tukios.com/
BEGIN:VEVENT
UID:ea15676d-d003-4ba6-953a-dff99c9e0a81@www.speakschapel.com
DTSTAMP:20260425T230329Z
DTSTART:20260428T160000Z
DTEND:20260428T170000Z
SUMMARY:Funeral Service
DESCRIPTION:
URL:https://www.speakschapel.com/obituaries/ivan-smith
LOCATION: 613 S Main St  Independence MO 64050
GEO:39.0862152;-94.4151001
END:VEVENT
END:VCALENDAR