BEGIN:VCALENDAR
VERSION:2.0
PRODID:-//Tukios.com/
BEGIN:VEVENT
UID:ba518f75-f1cc-447c-8cd2-ee21da5aa8d2@www.speakschapel.com
DTSTAMP:20260425T225900Z
DTSTART:20260428T193000Z
DTEND:20260428T200000Z
SUMMARY:Graveside Service
DESCRIPTION:
URL:https://www.speakschapel.com/obituaries/ivan-smith
LOCATION:Trinity Lutheran Cemetery E 333rd St  Creighton MO 64739
GEO:38.5067722;-94.112688
END:VEVENT
END:VCALENDAR