BEGIN:VCALENDAR
VERSION:2.0
PRODID:-//Tukios.com/
BEGIN:VEVENT
UID:00cf1f3b-3969-49a6-a279-cfefd3a10b38@www.speakschapel.com
DTSTAMP:20260421T231253Z
DTSTART:20260424T140000Z
DTEND:20260424T150000Z
SUMMARY:Visitation
DESCRIPTION:
URL:https://www.speakschapel.com/obituaries/keith-north
LOCATION: 451 MO-150  Lee's Summit MO 64082
GEO:38.8524834;-94.3858289
END:VEVENT
END:VCALENDAR