BEGIN:VCALENDAR
VERSION:2.0
PRODID:-//Tukios.com/
BEGIN:VEVENT
UID:4433a192-9123-42e6-a028-f9856615c3a0@www.speakschapel.com
DTSTAMP:20260421T231252Z
DTSTART:20260424T180000Z
DTEND:20260424T190000Z
SUMMARY:Graveside Service
DESCRIPTION:
URL:https://www.speakschapel.com/obituaries/keith-north
LOCATION:Missouri State Veterans Cemetery 20109 MO-13 BUS  Higginsville 
	MO 64037
GEO:39.0966148;-93.7339782
END:VEVENT
END:VCALENDAR