BEGIN:VCALENDAR
VERSION:2.0
PRODID:-//Tukios.com/
BEGIN:VEVENT
UID:58fe2c7f-db9f-46f5-82dc-261872915403@www.speakschapel.com
DTSTAMP:20260421T231348Z
DTSTART:20260424T150000Z
DTEND:20260424T160000Z
SUMMARY:Funeral Service
DESCRIPTION:
URL:https://www.speakschapel.com/obituaries/keith-north
LOCATION: 451 MO-150  Lee's Summit MO 64082
GEO:38.8524834;-94.3858289
END:VEVENT
END:VCALENDAR