BEGIN:VCALENDAR
VERSION:2.0
PRODID:-//Tukios.com/
BEGIN:VEVENT
UID:2a4169e6-e66f-412e-a18e-ce502f150182@www.speakschapel.com
DTSTAMP:20260422T011509Z
DTSTART:20260427T160000Z
DTEND:20260427T170000Z
SUMMARY:Funeral Service
DESCRIPTION:
URL:https://www.speakschapel.com/obituaries/robert-otto-ii
LOCATION: 18020 East 39th St S  Independence MO 64055
GEO:39.0487451;-94.3667505
END:VEVENT
END:VCALENDAR