BEGIN:VCALENDAR
VERSION:2.0
PRODID:-//Tukios.com/
BEGIN:VEVENT
UID:7714d3f6-5107-4f0a-923f-be883cfb5399@www.speakschapel.com
DTSTAMP:20260422T011750Z
DTSTART:20260427T150000Z
DTEND:20260427T160000Z
SUMMARY:Visitation
DESCRIPTION:
URL:https://www.speakschapel.com/obituaries/robert-otto-ii
LOCATION: 18020 East 39th St S  Independence MO 64055
GEO:39.0487451;-94.3667505
END:VEVENT
END:VCALENDAR