BEGIN:VCALENDAR
VERSION:2.0
PRODID:-//Tukios.com/
BEGIN:VEVENT
UID:41caf00e-7342-4238-ae6a-e968fe58531d@www.speakschapel.com
DTSTAMP:20260425T022616Z
DTSTART:20260620
SUMMARY:Memorial Service
DESCRIPTION:Reception to follow services
URL:https://www.speakschapel.com/obituaries/sinclair-mackay
LOCATION: 1012 W Lexington Ave  Independence MO 64050
GEO:39.0917167;-94.428224
END:VEVENT
END:VCALENDAR